BEGIN:VCALENDAR
VERSION:2.0
PRODID:-//eventon.com NONSGML v1.0//EN
CALSCALE:GREGORIAN
METHOD:PUBLISH
BEGIN:VEVENT
UID:69e737c6a16a9
DTSTAMP:20260421T083934
DTSTART:20230923T183000Z
DTEND:20230923T183000Z
TZID:America/New_York
LOCATION:
SUMMARY:TGA presents Raas Garba Dhamal Kirtidan Gadhvi
DESCRIPTION:Raas Garba Dhamal\nhttps://hsnctemple.org/events/tga-presents-raas-garba-dhamal-kirtidan-gadhvi/
URL:https://hsnctemple.org/events/tga-presents-raas-garba-dhamal-kirtidan-gadhvi/
END:VEVENT
END:VCALENDAR