BEGIN:VCALENDAR
VERSION:2.0
PRODID:-//eventon.com NONSGML v1.0//EN
CALSCALE:GREGORIAN
METHOD:PUBLISH
BEGIN:VEVENT
UID:69e73c0b15aef
DTSTAMP:20260421T085747
DTSTART:20230505T190000Z
DTEND:20230505T190000Z
TZID:America/New_York
LOCATION:
SUMMARY:Dil Se
DESCRIPTION:\nhttps://hsnctemple.org/events/dil-se/
URL:https://hsnctemple.org/events/dil-se/
END:VEVENT
END:VCALENDAR