BEGIN:VCALENDAR
VERSION:2.0
PRODID:-//eventon.com NONSGML v1.0//EN
CALSCALE:GREGORIAN
METHOD:PUBLISH
BEGIN:VEVENT
UID:69e74909b405e
DTSTAMP:20260421T095313
DTSTART:20220421T180000Z
DTEND:20220421T170000Z
TZID:America/New_York
LOCATION:
SUMMARY:Kaajal Oza Show
DESCRIPTION:A mesmerizing evening with Kaajal Oza and Raeesh Maniar\nhttps://hsnctemple.org/events/kaajal-oza-show/
URL:https://hsnctemple.org/events/kaajal-oza-show/
END:VEVENT
END:VCALENDAR