BEGIN:VCALENDAR
VERSION:2.0
PRODID:-//eventon.com NONSGML v1.0//EN
CALSCALE:GREGORIAN
METHOD:PUBLISH
BEGIN:VEVENT
UID:69e9075da9e98
DTSTAMP:20260422T173733
DTSTART:20211007T200000Z
DTEND:20211016T220000Z
TZID:America/New_York
LOCATION:
SUMMARY:HSNC Navaratri Festival 2021
DESCRIPTION:Dandiya/Garba/Food and Gujrati Traditions! Come join us for some fun and devotional dancing! Garba/Dandiya: Weekday 8:00 PM to 12:00 AM and Weekends 8:00 PM to 2:00 AM Weekday Rates - Monday\,  Tuesday\,  Wednesday\,  Thursday and Sunday Weekend Rates - Friday\,  Saturday\nhttps://hsnctemple.org/events/hsnc-navaratri-festival-2021/
URL:https://hsnctemple.org/events/hsnc-navaratri-festival-2021/
END:VEVENT
END:VCALENDAR