BEGIN:VCALENDAR
VERSION:2.0
PRODID:-//eventon.com NONSGML v1.0//EN
CALSCALE:GREGORIAN
METHOD:PUBLISH
BEGIN:VEVENT
UID:69e88784d3db3
DTSTAMP:20260422T083204
DTSTART:20210913T200000Z
DTEND:20210913T173000Z
TZID:America/New_York
LOCATION:
SUMMARY:Geet Gunjan by HSNC Senior Group: Bhajan & Bhakti Geet from Bollywood
DESCRIPTION:A beautiful musical evening with our HSNC Seniors singing popular Bhajan & Bhakti Geet from Bollywood\nhttps://hsnctemple.org/events/geet-gunjan-by-hsnc-senior-group-bhajan-bhakti-geet-from-bollywood/
URL:https://hsnctemple.org/events/geet-gunjan-by-hsnc-senior-group-bhajan-bhakti-geet-from-bollywood/
END:VEVENT
END:VCALENDAR