BEGIN:VCALENDAR
VERSION:2.0
PRODID:-//eventon.com NONSGML v1.0//EN
CALSCALE:GREGORIAN
METHOD:PUBLISH
BEGIN:VEVENT
UID:69e9eb9aa4405
DTSTAMP:20260423T095122
DTSTART:20201117T100000Z
DTEND:20201117T110000Z
TZID:America/New_York
LOCATION:
SUMMARY:Drive Through COVID-19 Testing at HSNC
DESCRIPTION:\nhttps://hsnctemple.org/events/drive-through-covid-19-testing-at-hsnc/
URL:https://hsnctemple.org/events/drive-through-covid-19-testing-at-hsnc/
END:VEVENT
END:VCALENDAR