BEGIN:VCALENDAR
VERSION:2.0
PRODID:-//eventon.com NONSGML v1.0//EN
CALSCALE:GREGORIAN
METHOD:PUBLISH
BEGIN:VEVENT
UID:69ea2057c0e06
DTSTAMP:20260423T133623
DTSTART:20260509T103000Z
DTEND:20260509T101500Z
TZID:America/New_York
LOCATION:
SUMMARY:North Carolina Dialogue 2026
DESCRIPTION:India Abroad\,  supported by the Hindu Society of North Carolina (HSNC)\,  presents North Carolina Dialogue 2026—a dynamic forum bringing together leaders\,  policymakers\,  and community voices to discuss the growing impact of Indian Americans in North Carolina and beyond. This engaging event will feature insightful panel discussions\,  keynote sessions\,  and networking[..]\nhttps://hsnctemple.org/events/north-carolina-dialogue-2026/
URL:https://hsnctemple.org/events/north-carolina-dialogue-2026/
END:VEVENT
END:VCALENDAR